Workbook

Sheet Read me
B2: Client and Customer Record Spreadsheet
B3: Upkeep Papers · upkeeppapers.com · free to use, keep and share
B5: Not a CRM. A list — of who your customers are, what they are worth, and how long it has been since anyone spoke to them. For most small businesses that is the whole of the useful part.
B7: How to use it
B8: • One row per customer. Fill in as much as you actually have.
B9: • Record what they have spent with you to date, and update it as work completes.
B10: • Days since contact counts itself from the last contact date.
B11: • The By source tab shows where your customers are actually coming from.
B13: The two cell colours
B14: • Cream cells are yours to fill in.
B15: • Grey cells work themselves out. Leave them be unless you want to change the sum.
B17: If it looks empty, it is meant to
... B32: No account, no sign-up and no tracking inside this file. It is an ordinary spreadsheet and it is yours.

Sheet Customers
A1: Customers
A2: Total spent is what they have actually paid you, across all jobs.
A3: Customer | B3: Contact name | C3: Phone | D3: Email | E3: Address | F3: How they found you | G3: First job | H3: Last contact | I3: Days since contact | J3: Total spent | K3: Share of revenue | L3: Status | M3: Notes
I4: =IFERROR(IF(H4="","",TODAY()-H4),"") | K4: =IFERROR(J4/J124,"")
I5: =IFERROR(IF(H5="","",TODAY()-H5),"") | K5: =IFERROR(J5/J124,"")
I6: =IFERROR(IF(H6="","",TODAY()-H6),"") | K6: =IFERROR(J6/J124,"")
I7: =IFERROR(IF(H7="","",TODAY()-H7),"") | K7: =IFERROR(J7/J124,"")
I8: =IFERROR(IF(H8="","",TODAY()-H8),"") | K8: =IFERROR(J8/J124,"")
I9: =IFERROR(IF(H9="","",TODAY()-H9),"") | K9: =IFERROR(J9/J124,"")
I10: =IFERROR(IF(H10="","",TODAY()-H10),"") | K10: =IFERROR(J10/J124,"")
I11: =IFERROR(IF(H11="","",TODAY()-H11),"") | K11: =IFERROR(J11/J124,"")
I12: =IFERROR(IF(H12="","",TODAY()-H12),"") | K12: =IFERROR(J12/J124,"")
I13: =IFERROR(IF(H13="","",TODAY()-H13),"") | K13: =IFERROR(J13/J124,"")
I14: =IFERROR(IF(H14="","",TODAY()-H14),"") | K14: =IFERROR(J14/J124,"")
I15: =IFERROR(IF(H15="","",TODAY()-H15),"") | K15: =IFERROR(J15/J124,"")
I16: =IFERROR(IF(H16="","",TODAY()-H16),"") | K16: =IFERROR(J16/J124,"")
I17: =IFERROR(IF(H17="","",TODAY()-H17),"") | K17: =IFERROR(J17/J124,"")
I18: =IFERROR(IF(H18="","",TODAY()-H18),"") | K18: =IFERROR(J18/J124,"")
I19: =IFERROR(IF(H19="","",TODAY()-H19),"") | K19: =IFERROR(J19/J124,"")
I20: =IFERROR(IF(H20="","",TODAY()-H20),"") | K20: =IFERROR(J20/J124,"")
I21: =IFERROR(IF(H21="","",TODAY()-H21),"") | K21: =IFERROR(J21/J124,"")
I22: =IFERROR(IF(H22="","",TODAY()-H22),"") | K22: =IFERROR(J22/J124,"")
I23: =IFERROR(IF(H23="","",TODAY()-H23),"") | K23: =IFERROR(J23/J124,"")
I24: =IFERROR(IF(H24="","",TODAY()-H24),"") | K24: =IFERROR(J24/J124,"")
I25: =IFERROR(IF(H25="","",TODAY()-H25),"") | K25: =IFERROR(J25/J124,"")
I26: =IFERROR(IF(H26="","",TODAY()-H26),"") | K26: =IFERROR(J26/J124,"")
I27: =IFERROR(IF(H27="","",TODAY()-H27),"") | K27: =IFERROR(J27/J124,"")
I28: =IFERROR(IF(H28="","",TODAY()-H28),"") | K28: =IFERROR(J28/J124,"")
I29: =IFERROR(IF(H29="","",TODAY()-H29),"") | K29: =IFERROR(J29/J124,"")
I30: =IFERROR(IF(H30="","",TODAY()-H30),"") | K30: =IFERROR(J30/J124,"")
I31: =IFERROR(IF(H31="","",TODAY()-H31),"") | K31: =IFERROR(J31/J124,"")
I32: =IFERROR(IF(H32="","",TODAY()-H32),"") | K32: =IFERROR(J32/J124,"")
I33: =IFERROR(IF(H33="","",TODAY()-H33),"") | K33: =IFERROR(J33/J124,"")
I34: =IFERROR(IF(H34="","",TODAY()-H34),"") | K34: =IFERROR(J34/J124,"")
I35: =IFERROR(IF(H35="","",TODAY()-H35),"") | K35: =IFERROR(J35/J124,"")
I36: =IFERROR(IF(H36="","",TODAY()-H36),"") | K36: =IFERROR(J36/J124,"")
I37: =IFERROR(IF(H37="","",TODAY()-H37),"") | K37: =IFERROR(J37/J124,"")
I38: =IFERROR(IF(H38="","",TODAY()-H38),"") | K38: =IFERROR(J38/J124,"")
I39: =IFERROR(IF(H39="","",TODAY()-H39),"") | K39: =IFERROR(J39/J124,"")
I40: =IFERROR(IF(H40="","",TODAY()-H40),"") | K40: =IFERROR(J40/J124,"")
I41: =IFERROR(IF(H41="","",TODAY()-H41),"") | K41: =IFERROR(J41/J124,"")
I42: =IFERROR(IF(H42="","",TODAY()-H42),"") | K42: =IFERROR(J42/J124,"")
I43: =IFERROR(IF(H43="","",TODAY()-H43),"") | K43: =IFERROR(J43/J124,"")
I44: =IFERROR(IF(H44="","",TODAY()-H44),"") | K44: =IFERROR(J44/J124,"")
I45: =IFERROR(IF(H45="","",TODAY()-H45),"") | K45: =IFERROR(J45/J124,"")
I46: =IFERROR(IF(H46="","",TODAY()-H46),"") | K46: =IFERROR(J46/J124,"")
I47: =IFERROR(IF(H47="","",TODAY()-H47),"") | K47: =IFERROR(J47/J124,"")
I48: =IFERROR(IF(H48="","",TODAY()-H48),"") | K48: =IFERROR(J48/J124,"")
I49: =IFERROR(IF(H49="","",TODAY()-H49),"") | K49: =IFERROR(J49/J124,"")
I50: =IFERROR(IF(H50="","",TODAY()-H50),"") | K50: =IFERROR(J50/J124,"")
I51: =IFERROR(IF(H51="","",TODAY()-H51),"") | K51: =IFERROR(J51/J124,"")
I52: =IFERROR(IF(H52="","",TODAY()-H52),"") | K52: =IFERROR(J52/J124,"")
I53: =IFERROR(IF(H53="","",TODAY()-H53),"") | K53: =IFERROR(J53/J124,"")
I54: =IFERROR(IF(H54="","",TODAY()-H54),"") | K54: =IFERROR(J54/J124,"")
I55: =IFERROR(IF(H55="","",TODAY()-H55),"") | K55: =IFERROR(J55/J124,"")
I56: =IFERROR(IF(H56="","",TODAY()-H56),"") | K56: =IFERROR(J56/J124,"")
I57: =IFERROR(IF(H57="","",TODAY()-H57),"") | K57: =IFERROR(J57/J124,"")
I58: =IFERROR(IF(H58="","",TODAY()-H58),"") | K58: =IFERROR(J58/J124,"")
I59: =IFERROR(IF(H59="","",TODAY()-H59),"") | K59: =IFERROR(J59/J124,"")
I60: =IFERROR(IF(H60="","",TODAY()-H60),"") | K60: =IFERROR(J60/J124,"")
I61: =IFERROR(IF(H61="","",TODAY()-H61),"") | K61: =IFERROR(J61/J124,"")
I62: =IFERROR(IF(H62="","",TODAY()-H62),"") | K62: =IFERROR(J62/J124,"")
I63: =IFERROR(IF(H63="","",TODAY()-H63),"") | K63: =IFERROR(J63/J124,"")
I64: =IFERROR(IF(H64="","",TODAY()-H64),"") | K64: =IFERROR(J64/J124,"")
I65: =IFERROR(IF(H65="","",TODAY()-H65),"") | K65: =IFERROR(J65/J124,"")
I66: =IFERROR(IF(H66="","",TODAY()-H66),"") | K66: =IFERROR(J66/J124,"")
I67: =IFERROR(IF(H67="","",TODAY()-H67),"") | K67: =IFERROR(J67/J124,"")
I68: =IFERROR(IF(H68="","",TODAY()-H68),"") | K68: =IFERROR(J68/J124,"")
I69: =IFERROR(IF(H69="","",TODAY()-H69),"") | K69: =IFERROR(J69/J124,"")
I70: =IFERROR(IF(H70="","",TODAY()-H70),"") | K70: =IFERROR(J70/J124,"")
I71: =IFERROR(IF(H71="","",TODAY()-H71),"") | K71: =IFERROR(J71/J124,"")
I72: =IFERROR(IF(H72="","",TODAY()-H72),"") | K72: =IFERROR(J72/J124,"")
I73: =IFERROR(IF(H73="","",TODAY()-H73),"") | K73: =IFERROR(J73/J124,"")
I74: =IFERROR(IF(H74="","",TODAY()-H74),"") | K74: =IFERROR(J74/J124,"")
I75: =IFERROR(IF(H75="","",TODAY()-H75),"") | K75: =IFERROR(J75/J124,"")
I76: =IFERROR(IF(H76="","",TODAY()-H76),"") | K76: =IFERROR(J76/J124,"")
I77: =IFERROR(IF(H77="","",TODAY()-H77),"") | K77: =IFERROR(J77/J124,"")
I78: =IFERROR(IF(H78="","",TODAY()-H78),"") | K78: =IFERROR(J78/J124,"")
I79: =IFERROR(IF(H79="","",TODAY()-H79),"") | K79: =IFERROR(J79/J124,"")
I80: =IFERROR(IF(H80="","",TODAY()-H80),"") | K80: =IFERROR(J80/J124,"")
I81: =IFERROR(IF(H81="","",TODAY()-H81),"") | K81: =IFERROR(J81/J124,"")
I82: =IFERROR(IF(H82="","",TODAY()-H82),"") | K82: =IFERROR(J82/J124,"")
I83: =IFERROR(IF(H83="","",TODAY()-H83),"") | K83: =IFERROR(J83/J124,"")
I84: =IFERROR(IF(H84="","",TODAY()-H84),"") | K84: =IFERROR(J84/J124,"")
I85: =IFERROR(IF(H85="","",TODAY()-H85),"") | K85: =IFERROR(J85/J124,"")
I86: =IFERROR(IF(H86="","",TODAY()-H86),"") | K86: =IFERROR(J86/J124,"")
I87: =IFERROR(IF(H87="","",TODAY()-H87),"") | K87: =IFERROR(J87/J124,"")
I88: =IFERROR(IF(H88="","",TODAY()-H88),"") | K88: =IFERROR(J88/J124,"")
I89: =IFERROR(IF(H89="","",TODAY()-H89),"") | K89: =IFERROR(J89/J124,"")
I90: =IFERROR(IF(H90="","",TODAY()-H90),"") | K90: =IFERROR(J90/J124,"")
I91: =IFERROR(IF(H91="","",TODAY()-H91),"") | K91: =IFERROR(J91/J124,"")
I92: =IFERROR(IF(H92="","",TODAY()-H92),"") | K92: =IFERROR(J92/J124,"")
I93: =IFERROR(IF(H93="","",TODAY()-H93),"") | K93: =IFERROR(J93/J124,"")
I94: =IFERROR(IF(H94="","",TODAY()-H94),"") | K94: =IFERROR(J94/J124,"")
I95: =IFERROR(IF(H95="","",TODAY()-H95),"") | K95: =IFERROR(J95/J124,"")
I96: =IFERROR(IF(H96="","",TODAY()-H96),"") | K96: =IFERROR(J96/J124,"")
I97: =IFERROR(IF(H97="","",TODAY()-H97),"") | K97: =IFERROR(J97/J124,"")
I98: =IFERROR(IF(H98="","",TODAY()-H98),"") | K98: =IFERROR(J98/J124,"")
I99: =IFERROR(IF(H99="","",TODAY()-H99),"") | K99: =IFERROR(J99/J124,"")
I100: =IFERROR(IF(H100="","",TODAY()-H100),"") | K100: =IFERROR(J100/J124,"")
...

Sheet By source
A1: Where customers come from
A2: Pulled from the Customers tab. Tells you which marketing is actually working.
A3: Source | B3: Customers | C3: Revenue | D3: Average value
A4: Word of mouth | B4: =COUNTIF('Customers'!$F$4:$F$123,A4) | C4: =SUMIF('Customers'!$F$4:$F$123,A4,'Customers'!$J$4:$J$123) | D4: =IFERROR(C4/B4,"")
A5: Repeat customer | B5: =COUNTIF('Customers'!$F$4:$F$123,A5) | C5: =SUMIF('Customers'!$F$4:$F$123,A5,'Customers'!$J$4:$J$123) | D5: =IFERROR(C5/B5,"")
A6: Website | B6: =COUNTIF('Customers'!$F$4:$F$123,A6) | C6: =SUMIF('Customers'!$F$4:$F$123,A6,'Customers'!$J$4:$J$123) | D6: =IFERROR(C6/B6,"")
A7: Search | B7: =COUNTIF('Customers'!$F$4:$F$123,A7) | C7: =SUMIF('Customers'!$F$4:$F$123,A7,'Customers'!$J$4:$J$123) | D7: =IFERROR(C7/B7,"")
A8: Social media | B8: =COUNTIF('Customers'!$F$4:$F$123,A8) | C8: =SUMIF('Customers'!$F$4:$F$123,A8,'Customers'!$J$4:$J$123) | D8: =IFERROR(C8/B8,"")
A9: Directory | B9: =COUNTIF('Customers'!$F$4:$F$123,A9) | C9: =SUMIF('Customers'!$F$4:$F$123,A9,'Customers'!$J$4:$J$123) | D9: =IFERROR(C9/B9,"")
A10: Advertisement | B10: =COUNTIF('Customers'!$F$4:$F$123,A10) | C10: =SUMIF('Customers'!$F$4:$F$123,A10,'Customers'!$J$4:$J$123) | D10: =IFERROR(C10/B10,"")
A11: Leaflet | B11: =COUNTIF('Customers'!$F$4:$F$123,A11) | C11: =SUMIF('Customers'!$F$4:$F$123,A11,'Customers'!$J$4:$J$123) | D11: =IFERROR(C11/B11,"")
A12: Trade contact | B12: =COUNTIF('Customers'!$F$4:$F$123,A12) | C12: =SUMIF('Customers'!$F$4:$F$123,A12,'Customers'!$J$4:$J$123) | D12: =IFERROR(C12/B12,"")
A13: Other | B13: =COUNTIF('Customers'!$F$4:$F$123,A13) | C13: =SUMIF('Customers'!$F$4:$F$123,A13,'Customers'!$J$4:$J$123) | D13: =IFERROR(C13/B13,"")
A14: Total | B14: =SUM(B4:B13) | C14: =SUM(C4:C13)
